Package: TurboNorm Version: 1.55.0 Command: /home/biocbuild/bbs-3.21-bioc/R/bin/R CMD check --install=check:TurboNorm.install-out.txt --library=/home/biocbuild/bbs-3.21-bioc/R/site-library --timings TurboNorm_1.55.0.tar.gz StartedAt: 2025-02-13 03:35:11 -0500 (Thu, 13 Feb 2025) EndedAt: 2025-02-13 03:36:21 -0500 (Thu, 13 Feb 2025) EllapsedTime: 70.1 seconds RetCode: 0 Status: OK CheckDir: TurboNorm.Rcheck Warnings: 0