Package: TurboNorm Version: 1.55.0 Command: /home/biocbuild/bbs-3.21-bioc/R/bin/R CMD INSTALL TurboNorm StartedAt: 2025-02-12 15:13:47 -0500 (Wed, 12 Feb 2025) EndedAt: 2025-02-12 15:13:52 -0500 (Wed, 12 Feb 2025) EllapsedTime: 4.4 seconds RetCode: 0 Status: OK