Package: TurboNorm Version: 1.55.0 Command: rm -rf TurboNorm.buildbin-libdir && mkdir TurboNorm.buildbin-libdir && E:\biocbuild\bbs-3.21-bioc\R\bin\R.exe CMD INSTALL --build --library=TurboNorm.buildbin-libdir TurboNorm_1.55.0.tar.gz StartedAt: 2025-02-13 09:06:04 -0500 (Thu, 13 Feb 2025) EndedAt: 2025-02-13 09:06:25 -0500 (Thu, 13 Feb 2025) EllapsedTime: 21.5 seconds RetCode: 0 Status: OK PackageFile: TurboNorm_1.55.0.zip PackageFileSize: 2.057 MiB