Package: TurboNorm Version: 1.55.0 Command: chmod a+r TurboNorm -R && E:\biocbuild\bbs-3.21-bioc\R\bin\R.exe CMD build --keep-empty-dirs --no-resave-data TurboNorm StartedAt: 2025-02-09 22:12:23 -0500 (Sun, 09 Feb 2025) EndedAt: 2025-02-09 22:12:48 -0500 (Sun, 09 Feb 2025) EllapsedTime: 25.0 seconds RetCode: 0 Status: OK PackageFile: TurboNorm_1.55.0.tar.gz PackageFileSize: 2.022 MiB