Package: UCell Version: 2.11.1 Command: /Library/Frameworks/R.framework/Resources/bin/R CMD check --install=check:UCell.install-out.txt --library=/Library/Frameworks/R.framework/Resources/library --no-vignettes --timings UCell_2.11.1.tar.gz StartedAt: 2025-02-10 00:17:11 -0500 (Mon, 10 Feb 2025) EndedAt: 2025-02-10 00:20:40 -0500 (Mon, 10 Feb 2025) EllapsedTime: 209.6 seconds RetCode: 0 Status: OK CheckDir: UCell.Rcheck Warnings: 0