Package: UCell Version: 2.11.1 Command: E:\biocbuild\bbs-3.21-bioc\R\bin\R.exe CMD INSTALL UCell StartedAt: 2025-02-09 16:18:45 -0500 (Sun, 09 Feb 2025) EndedAt: 2025-02-09 16:19:15 -0500 (Sun, 09 Feb 2025) EllapsedTime: 30.3 seconds RetCode: 0 Status: OK