Package: UMI4Cats Version: 1.17.0 Command: /Library/Frameworks/R.framework/Resources/bin/R CMD check --install=check:UMI4Cats.install-out.txt --library=/Library/Frameworks/R.framework/Resources/library --no-vignettes --timings UMI4Cats_1.17.0.tar.gz StartedAt: 2025-02-03 22:28:24 -0500 (Mon, 03 Feb 2025) EndedAt: 2025-02-03 22:30:36 -0500 (Mon, 03 Feb 2025) EllapsedTime: 131.6 seconds RetCode: 0 Status: OK CheckDir: UMI4Cats.Rcheck Warnings: 0