Package: UMI4Cats Version: 1.17.0 Command: /Library/Frameworks/R.framework/Resources/bin/R CMD INSTALL UMI4Cats StartedAt: 2025-02-03 16:04:30 -0500 (Mon, 03 Feb 2025) EndedAt: 2025-02-03 16:04:46 -0500 (Mon, 03 Feb 2025) EllapsedTime: 15.4 seconds RetCode: 0 Status: OK