Package: UMI4Cats Version: 1.17.0 Command: /Library/Frameworks/R.framework/Resources/bin/R CMD build --keep-empty-dirs --no-resave-data UMI4Cats StartedAt: 2025-02-03 18:42:43 -0500 (Mon, 03 Feb 2025) EndedAt: 2025-02-03 18:44:43 -0500 (Mon, 03 Feb 2025) EllapsedTime: 119.9 seconds RetCode: 0 Status: OK PackageFile: UMI4Cats_1.17.0.tar.gz PackageFileSize: 3.756 MiB