Package: UMI4Cats Version: 1.17.0 Command: /Library/Frameworks/R.framework/Resources/bin/R CMD check --install=check:UMI4Cats.install-out.txt --library=/Library/Frameworks/R.framework/Resources/library --no-vignettes --timings UMI4Cats_1.17.0.tar.gz StartedAt: 2025-02-10 00:17:42 -0500 (Mon, 10 Feb 2025) EndedAt: 2025-02-10 00:24:05 -0500 (Mon, 10 Feb 2025) EllapsedTime: 383.6 seconds RetCode: 0 Status: OK CheckDir: UMI4Cats.Rcheck Warnings: 0