Package: UMI4Cats Version: 1.17.0 Command: /home/biocbuild/bbs-3.21-bioc/R/bin/R CMD build --keep-empty-dirs --no-resave-data UMI4Cats StartedAt: 2025-02-03 19:49:59 -0500 (Mon, 03 Feb 2025) EndedAt: 2025-02-03 19:51:46 -0500 (Mon, 03 Feb 2025) EllapsedTime: 107.1 seconds RetCode: 0 Status: OK PackageFile: UMI4Cats_1.17.0.tar.gz PackageFileSize: 3.704 MiB