Package: UMI4Cats Version: 1.17.0 Command: /home/biocbuild/bbs-3.21-bioc/R/bin/R CMD INSTALL UMI4Cats StartedAt: 2025-02-03 16:06:03 -0500 (Mon, 03 Feb 2025) EndedAt: 2025-02-03 16:06:46 -0500 (Mon, 03 Feb 2025) EllapsedTime: 42.4 seconds RetCode: 0 Status: OK