Package: UMI4Cats Version: 1.17.0 Command: chmod a+r UMI4Cats -R && E:\biocbuild\bbs-3.21-bioc\R\bin\R.exe CMD build --keep-empty-dirs --no-resave-data UMI4Cats StartedAt: 2025-02-09 22:13:39 -0500 (Sun, 09 Feb 2025) EndedAt: 2025-02-09 22:15:04 -0500 (Sun, 09 Feb 2025) EllapsedTime: 84.4 seconds RetCode: 1 Status: ERROR PackageFile: None PackageFileSize: NA