Package: UNDO Version: 1.49.0 Command: /Library/Frameworks/R.framework/Resources/bin/R CMD build --keep-empty-dirs --no-resave-data UNDO StartedAt: 2025-02-09 17:52:05 -0500 (Sun, 09 Feb 2025) EndedAt: 2025-02-09 17:52:10 -0500 (Sun, 09 Feb 2025) EllapsedTime: 5.1 seconds RetCode: 0 Status: OK PackageFile: UNDO_1.49.0.tar.gz PackageFileSize: 2.853 MiB