Package: UNDO Version: 1.49.0 Command: /Library/Frameworks/R.framework/Resources/bin/R CMD check --install=check:UNDO.install-out.txt --library=/Library/Frameworks/R.framework/Resources/library --no-vignettes --timings UNDO_1.49.0.tar.gz StartedAt: 2025-02-09 21:52:51 -0500 (Sun, 09 Feb 2025) EndedAt: 2025-02-09 21:53:06 -0500 (Sun, 09 Feb 2025) EllapsedTime: 15.2 seconds RetCode: 0 Status: OK CheckDir: UNDO.Rcheck Warnings: 0