Package: UNDO Version: 1.49.0 Command: /home/biocbuild/bbs-3.21-bioc/R/bin/R CMD check --install=check:UNDO.install-out.txt --library=/home/biocbuild/bbs-3.21-bioc/R/site-library --timings UNDO_1.49.0.tar.gz StartedAt: 2025-02-10 03:37:12 -0500 (Mon, 10 Feb 2025) EndedAt: 2025-02-10 03:37:46 -0500 (Mon, 10 Feb 2025) EllapsedTime: 34.1 seconds RetCode: 0 Status: OK CheckDir: UNDO.Rcheck Warnings: 0