Package: UNDO Version: 1.49.0 Command: rm -rf UNDO.buildbin-libdir && mkdir UNDO.buildbin-libdir && E:\biocbuild\bbs-3.21-bioc\R\bin\R.exe CMD INSTALL --build --library=UNDO.buildbin-libdir UNDO_1.49.0.tar.gz StartedAt: 2025-02-13 09:06:29 -0500 (Thu, 13 Feb 2025) EndedAt: 2025-02-13 09:06:38 -0500 (Thu, 13 Feb 2025) EllapsedTime: 9.6 seconds RetCode: 0 Status: OK PackageFile: UNDO_1.49.0.zip PackageFileSize: 2.818 MiB