Package: UPDhmm Version: 1.3.0 Command: rm -rf UPDhmm.buildbin-libdir && mkdir UPDhmm.buildbin-libdir && /Users/biocbuild/BBS/utils/build-universal.sh UPDhmm_1.3.0.tar.gz /Library/Frameworks/R.framework/Resources/bin/R UPDhmm.buildbin-libdir StartedAt: 2025-02-12 22:39:34 -0500 (Wed, 12 Feb 2025) EndedAt: 2025-02-12 22:39:36 -0500 (Wed, 12 Feb 2025) EllapsedTime: 2.0 seconds RetCode: 0 Status: OK PackageFile: UPDhmm_1.3.0.tgz PackageFileSize: 323.3 KiB