Package: UPDhmm Version: 1.3.0 Command: /Library/Frameworks/R.framework/Resources/bin/R CMD INSTALL UPDhmm StartedAt: 2025-02-09 15:12:01 -0500 (Sun, 09 Feb 2025) EndedAt: 2025-02-09 15:12:03 -0500 (Sun, 09 Feb 2025) EllapsedTime: 2.0 seconds RetCode: 0 Status: OK