Package: UPDhmm Version: 1.3.0 Command: /home/biocbuild/R/R/bin/R CMD build --keep-empty-dirs --no-resave-data UPDhmm StartedAt: 2025-01-28 03:06:07 -0000 (Tue, 28 Jan 2025) EndedAt: 2025-01-28 03:06:40 -0000 (Tue, 28 Jan 2025) EllapsedTime: 33.0 seconds RetCode: 0 Status: OK PackageFile: UPDhmm_1.3.0.tar.gz PackageFileSize: 266.8 KiB