Package: UPDhmm Version: 1.3.0 Command: /home/biocbuild/bbs-3.21-bioc/R/bin/R CMD INSTALL UPDhmm StartedAt: 2025-02-09 15:40:06 -0500 (Sun, 09 Feb 2025) EndedAt: 2025-02-09 15:40:08 -0500 (Sun, 09 Feb 2025) EllapsedTime: 2.0 seconds RetCode: 0 Status: OK