Package: Ularcirc Version: 1.25.0 Command: /Library/Frameworks/R.framework/Resources/bin/R CMD build --keep-empty-dirs --no-resave-data Ularcirc StartedAt: 2025-02-09 17:51:56 -0500 (Sun, 09 Feb 2025) EndedAt: 2025-02-09 17:52:02 -0500 (Sun, 09 Feb 2025) EllapsedTime: 6.1 seconds RetCode: 0 Status: OK PackageFile: Ularcirc_1.25.0.tar.gz PackageFileSize: 5.214 MiB