Package: Ularcirc Version: 1.25.0 Command: /Library/Frameworks/R.framework/Resources/bin/R CMD INSTALL Ularcirc StartedAt: 2025-02-12 15:16:35 -0500 (Wed, 12 Feb 2025) EndedAt: 2025-02-12 15:16:39 -0500 (Wed, 12 Feb 2025) EllapsedTime: 4.3 seconds RetCode: 0 Status: OK