Package: Uniquorn Version: 2.27.0 Command: /Library/Frameworks/R.framework/Resources/bin/R CMD check --install=check:Uniquorn.install-out.txt --library=/Library/Frameworks/R.framework/Resources/library --no-vignettes --timings Uniquorn_2.27.0.tar.gz StartedAt: 2025-02-04 21:54:43 -0500 (Tue, 04 Feb 2025) EndedAt: 2025-02-04 21:56:34 -0500 (Tue, 04 Feb 2025) EllapsedTime: 110.2 seconds RetCode: 0 Status: OK CheckDir: Uniquorn.Rcheck Warnings: 0