Package: Uniquorn Version: 2.27.0 Command: /Library/Frameworks/R.framework/Resources/bin/R CMD build --keep-empty-dirs --no-resave-data Uniquorn StartedAt: 2025-02-09 18:47:59 -0500 (Sun, 09 Feb 2025) EndedAt: 2025-02-09 18:48:44 -0500 (Sun, 09 Feb 2025) EllapsedTime: 45.8 seconds RetCode: 0 Status: OK PackageFile: Uniquorn_2.27.0.tar.gz PackageFileSize: 2.196 MiB