Package: Uniquorn Version: 2.27.0 Command: /Library/Frameworks/R.framework/Resources/bin/R CMD INSTALL Uniquorn StartedAt: 2025-02-09 15:21:08 -0500 (Sun, 09 Feb 2025) EndedAt: 2025-02-09 15:22:01 -0500 (Sun, 09 Feb 2025) EllapsedTime: 52.5 seconds RetCode: 0 Status: OK