Package: Uniquorn Version: 2.27.0 Command: /home/biocbuild/bbs-3.21-bioc/R/bin/R CMD check --install=check:Uniquorn.install-out.txt --library=/home/biocbuild/bbs-3.21-bioc/R/site-library --timings Uniquorn_2.27.0.tar.gz StartedAt: 2025-02-10 03:37:46 -0500 (Mon, 10 Feb 2025) EndedAt: 2025-02-10 03:42:35 -0500 (Mon, 10 Feb 2025) EllapsedTime: 288.3 seconds RetCode: 0 Status: OK CheckDir: Uniquorn.Rcheck Warnings: 0