Package: Uniquorn Version: 2.27.0 Command: chmod a+r Uniquorn -R && E:\biocbuild\bbs-3.21-bioc\R\bin\R.exe CMD build --keep-empty-dirs --no-resave-data Uniquorn StartedAt: 2025-02-09 22:14:01 -0500 (Sun, 09 Feb 2025) EndedAt: 2025-02-09 22:14:53 -0500 (Sun, 09 Feb 2025) EllapsedTime: 51.8 seconds RetCode: 0 Status: OK PackageFile: Uniquorn_2.27.0.tar.gz PackageFileSize: 2.196 MiB