Package: Uniquorn Version: 2.27.0 Command: E:\biocbuild\bbs-3.21-bioc\R\bin\R.exe CMD check --no-multiarch --install=check:Uniquorn.install-out.txt --library=E:\biocbuild\bbs-3.21-bioc\R\library --no-vignettes --timings Uniquorn_2.27.0.tar.gz StartedAt: 2025-02-10 06:27:33 -0500 (Mon, 10 Feb 2025) EndedAt: 2025-02-10 06:32:58 -0500 (Mon, 10 Feb 2025) EllapsedTime: 325.3 seconds RetCode: 0 Status: OK CheckDir: Uniquorn.Rcheck Warnings: 0