Package: VAExprs Version: 1.13.0 Command: /home/biocbuild/R/R/bin/R CMD INSTALL VAExprs StartedAt: 2025-01-29 20:37:04 -0000 (Wed, 29 Jan 2025) EndedAt: 2025-01-29 20:37:51 -0000 (Wed, 29 Jan 2025) EllapsedTime: 46.9 seconds RetCode: 0 Status: OK