Package: VAExprs Version: 1.13.0 Command: /Library/Frameworks/R.framework/Resources/bin/R CMD INSTALL VAExprs StartedAt: 2025-02-04 15:44:48 -0500 (Tue, 04 Feb 2025) EndedAt: 2025-02-04 15:45:23 -0500 (Tue, 04 Feb 2025) EllapsedTime: 34.8 seconds RetCode: 0 Status: OK