Package: VAExprs Version: 1.13.0 Command: /home/biocbuild/bbs-3.21-bioc/R/bin/R CMD build --keep-empty-dirs --no-resave-data VAExprs StartedAt: 2025-02-12 19:38:10 -0500 (Wed, 12 Feb 2025) EndedAt: 2025-02-12 19:38:53 -0500 (Wed, 12 Feb 2025) EllapsedTime: 43.1 seconds RetCode: 0 Status: OK PackageFile: VAExprs_1.13.0.tar.gz PackageFileSize: 561.8 KiB