Package: VDJdive Version: 1.9.0 Command: /Library/Frameworks/R.framework/Resources/bin/R CMD check --install=check:VDJdive.install-out.txt --library=/Library/Frameworks/R.framework/Resources/library --no-vignettes --timings VDJdive_1.9.0.tar.gz StartedAt: 2025-02-05 00:01:53 -0500 (Wed, 05 Feb 2025) EndedAt: 2025-02-05 00:08:18 -0500 (Wed, 05 Feb 2025) EllapsedTime: 385.6 seconds RetCode: 0 Status: OK CheckDir: VDJdive.Rcheck Warnings: 0