Package: VDJdive Version: 1.9.0 Command: /Library/Frameworks/R.framework/Resources/bin/R CMD INSTALL VDJdive StartedAt: 2025-02-04 15:13:18 -0500 (Tue, 04 Feb 2025) EndedAt: 2025-02-04 15:13:49 -0500 (Tue, 04 Feb 2025) EllapsedTime: 31.8 seconds RetCode: 0 Status: OK