Package: VDJdive Version: 1.9.0 Command: E:\biocbuild\bbs-3.21-bioc\R\bin\R.exe CMD check --no-multiarch --install=check:VDJdive.install-out.txt --library=E:\biocbuild\bbs-3.21-bioc\R\library --no-vignettes --timings VDJdive_1.9.0.tar.gz StartedAt: 2025-02-05 06:52:34 -0500 (Wed, 05 Feb 2025) EndedAt: 2025-02-05 06:57:05 -0500 (Wed, 05 Feb 2025) EllapsedTime: 270.9 seconds RetCode: 0 Status: OK CheckDir: VDJdive.Rcheck Warnings: 0