Package: VDJdive Version: 1.9.0 Command: E:\biocbuild\bbs-3.21-bioc\R\bin\R.exe CMD INSTALL VDJdive StartedAt: 2025-02-04 15:52:49 -0500 (Tue, 04 Feb 2025) EndedAt: 2025-02-04 15:53:30 -0500 (Tue, 04 Feb 2025) EllapsedTime: 41.1 seconds RetCode: 0 Status: OK