Package: VaSP Version: 1.19.0 Command: rm -rf VaSP.buildbin-libdir && mkdir VaSP.buildbin-libdir && /Users/biocbuild/BBS/utils/build-universal.sh VaSP_1.19.0.tar.gz /Library/Frameworks/R.framework/Resources/bin/R VaSP.buildbin-libdir StartedAt: 2025-02-04 22:36:19 -0500 (Tue, 04 Feb 2025) EndedAt: 2025-02-04 22:36:34 -0500 (Tue, 04 Feb 2025) EllapsedTime: 15.3 seconds RetCode: 0 Status: OK PackageFile: VaSP_1.19.0.tgz PackageFileSize: 5.732 MiB