Package: VaSP Version: 1.19.0 Command: /Library/Frameworks/R.framework/Resources/bin/R CMD build --keep-empty-dirs --no-resave-data VaSP StartedAt: 2025-02-04 17:53:12 -0500 (Tue, 04 Feb 2025) EndedAt: 2025-02-04 17:53:33 -0500 (Tue, 04 Feb 2025) EllapsedTime: 20.2 seconds RetCode: 0 Status: OK PackageFile: VaSP_1.19.0.tar.gz PackageFileSize: 8.456 MiB