Package: VaSP Version: 1.19.0 Command: /home/biocbuild/R/R/bin/R CMD INSTALL VaSP StartedAt: 2025-01-29 20:21:10 -0000 (Wed, 29 Jan 2025) EndedAt: 2025-01-29 20:21:56 -0000 (Wed, 29 Jan 2025) EllapsedTime: 46.1 seconds RetCode: 0 Status: OK