Package: VaSP Version: 1.19.0 Command: rm -rf VaSP.buildbin-libdir && mkdir VaSP.buildbin-libdir && /Users/biocbuild/BBS/utils/build-universal.sh VaSP_1.19.0.tar.gz /Library/Frameworks/R.framework/Resources/bin/R VaSP.buildbin-libdir StartedAt: 2025-02-05 01:07:39 -0500 (Wed, 05 Feb 2025) EndedAt: 2025-02-05 01:08:28 -0500 (Wed, 05 Feb 2025) EllapsedTime: 49.4 seconds RetCode: 0 Status: OK PackageFile: VaSP_1.19.0.tgz PackageFileSize: 5.731 MiB