Package: VaSP Version: 1.19.0 Command: /Library/Frameworks/R.framework/Resources/bin/R CMD build --keep-empty-dirs --no-resave-data VaSP StartedAt: 2025-02-04 18:40:09 -0500 (Tue, 04 Feb 2025) EndedAt: 2025-02-04 18:41:05 -0500 (Tue, 04 Feb 2025) EllapsedTime: 56.1 seconds RetCode: 0 Status: OK PackageFile: VaSP_1.19.0.tar.gz PackageFileSize: 8.456 MiB