Package: VaSP Version: 1.19.0 Command: /Library/Frameworks/R.framework/Resources/bin/R CMD check --install=check:VaSP.install-out.txt --library=/Library/Frameworks/R.framework/Resources/library --no-vignettes --timings VaSP_1.19.0.tar.gz StartedAt: 2025-02-05 00:00:52 -0500 (Wed, 05 Feb 2025) EndedAt: 2025-02-05 00:07:36 -0500 (Wed, 05 Feb 2025) EllapsedTime: 404.1 seconds RetCode: 0 Status: OK CheckDir: VaSP.Rcheck Warnings: 0