Package: VaSP Version: 1.19.0 Command: /Library/Frameworks/R.framework/Resources/bin/R CMD INSTALL VaSP StartedAt: 2025-02-04 15:34:24 -0500 (Tue, 04 Feb 2025) EndedAt: 2025-02-04 15:35:09 -0500 (Tue, 04 Feb 2025) EllapsedTime: 45.2 seconds RetCode: 0 Status: OK