Package: VaSP Version: 1.19.0 Command: rm -rf VaSP.buildbin-libdir && mkdir VaSP.buildbin-libdir && E:\biocbuild\bbs-3.21-bioc\R\bin\R.exe CMD INSTALL --build --library=VaSP.buildbin-libdir VaSP_1.19.0.tar.gz StartedAt: 2025-02-05 09:09:13 -0500 (Wed, 05 Feb 2025) EndedAt: 2025-02-05 09:10:00 -0500 (Wed, 05 Feb 2025) EllapsedTime: 46.7 seconds RetCode: 0 Status: OK PackageFile: VaSP_1.19.0.zip PackageFileSize: 5.734 MiB