Package: VaSP Version: 1.19.0 Command: chmod a+r VaSP -R && E:\biocbuild\bbs-3.21-bioc\R\bin\R.exe CMD build --keep-empty-dirs --no-resave-data VaSP StartedAt: 2025-02-04 22:17:05 -0500 (Tue, 04 Feb 2025) EndedAt: 2025-02-04 22:18:04 -0500 (Tue, 04 Feb 2025) EllapsedTime: 59.0 seconds RetCode: 0 Status: OK PackageFile: VaSP_1.19.0.tar.gz PackageFileSize: 8.456 MiB