Package: VaSP Version: 1.19.0 Command: E:\biocbuild\bbs-3.21-bioc\R\bin\R.exe CMD check --no-multiarch --install=check:VaSP.install-out.txt --library=E:\biocbuild\bbs-3.21-bioc\R\library --no-vignettes --timings VaSP_1.19.0.tar.gz StartedAt: 2025-02-05 06:52:23 -0500 (Wed, 05 Feb 2025) EndedAt: 2025-02-05 06:57:06 -0500 (Wed, 05 Feb 2025) EllapsedTime: 283.7 seconds RetCode: 0 Status: OK CheckDir: VaSP.Rcheck Warnings: 0