Package: VaSP Version: 1.19.0 Command: E:\biocbuild\bbs-3.21-bioc\R\bin\R.exe CMD INSTALL VaSP StartedAt: 2025-02-04 16:34:50 -0500 (Tue, 04 Feb 2025) EndedAt: 2025-02-04 16:35:36 -0500 (Tue, 04 Feb 2025) EllapsedTime: 45.1 seconds RetCode: 0 Status: OK