Package: VariantAnnotation Version: 1.53.1 Command: rm -rf VariantAnnotation.buildbin-libdir && mkdir VariantAnnotation.buildbin-libdir && /Users/biocbuild/BBS/utils/build-universal.sh VariantAnnotation_1.53.1.tar.gz /Library/Frameworks/R.framework/Resources/bin/R VariantAnnotation.buildbin-libdir StartedAt: 2025-02-10 01:21:54 -0500 (Mon, 10 Feb 2025) EndedAt: 2025-02-10 01:23:32 -0500 (Mon, 10 Feb 2025) EllapsedTime: 97.2 seconds RetCode: 0 Status: OK PackageFile: VariantAnnotation_1.53.1.tgz PackageFileSize: 4.4 MiB