Package: VariantAnnotation Version: 1.53.1 Command: /Library/Frameworks/R.framework/Resources/bin/R CMD check --install=check:VariantAnnotation.install-out.txt --library=/Library/Frameworks/R.framework/Resources/library --no-vignettes --timings VariantAnnotation_1.53.1.tar.gz StartedAt: 2025-02-10 00:19:00 -0500 (Mon, 10 Feb 2025) EndedAt: 2025-02-10 00:27:42 -0500 (Mon, 10 Feb 2025) EllapsedTime: 521.4 seconds RetCode: 0 Status: WARNINGS CheckDir: VariantAnnotation.Rcheck Warnings: 2