Package: VariantAnnotation Version: 1.53.1 Command: /home/biocbuild/bbs-3.21-bioc/R/bin/R CMD check --install=check:VariantAnnotation.install-out.txt --library=/home/biocbuild/bbs-3.21-bioc/R/site-library --timings VariantAnnotation_1.53.1.tar.gz StartedAt: 2025-02-05 03:46:06 -0500 (Wed, 05 Feb 2025) EndedAt: 2025-02-05 03:55:34 -0500 (Wed, 05 Feb 2025) EllapsedTime: 568.7 seconds RetCode: 0 Status: WARNINGS CheckDir: VariantAnnotation.Rcheck Warnings: 2